BEGIN:VCALENDAR
VERSION:2.0
PRODID:-//eventon.com NONSGML v1.0//EN
CALSCALE:GREGORIAN
METHOD:PUBLISH
BEGIN:VEVENT
UID:69e882bce8917
DTSTAMP:20260422T081140Z
DTSTART:20221019T090000Z
DTEND:20221020T180000Z
LOCATION:EspaÃ§o Villa Lobos Av. GonÃ§alo Madeira\,  209 - JaguarÃ©
SUMMARY:Philips Connect Day 2022 Unindo tecnologia\,  saÃºde e negÃ³cios
DESCRIPTION:Connect Day 2022: evento gratuito promovido pela Philips discut
 e tecnologia e negÃ³cios em saÃºde As IDTechs e Autoridades Certificadoras 
 CertiSign e Soluti sÃ£o patrocinadoras do Philips Connect Day 2022 e levarÃ
 £o aos participantes soluÃ§Ãµes como IdentificaÃ§Ã£o Digital\,  Assinatura 
 de Documentos EletrÃ´nicos\,  Certificado Digital em Nuvem\,  Plataforma de
  ComunicaÃ§Ã£o Segura\,  Armazenamento[..]\nhttps://cryptoid.com.br/eventos
 /philips-connect-day-2022-unindo-tecnologia-saude-e-negocios/
URL:https://cryptoid.com.br/eventos/philips-connect-day-2022-unindo-tecnologia-saude-e-negocios/
END:VEVENT
END:VCALENDAR