BEGIN:VCALENDAR
VERSION:2.0
PRODID:-//eventon.com NONSGML v1.0//EN
CALSCALE:GREGORIAN
METHOD:PUBLISH
BEGIN:VEVENT
UID:69ebaa25af62d
DTSTAMP:20260424T173637Z
DTSTART:20221124T090000Z
DTEND:20221125T180000Z
LOCATION:Arena da Baixada - Estádio Joaquim Américo Guimarães R. Buenos Aires\,  1260 - Água Verde\,  Curitiba - PR\,  80250-070
SUMMARY:SECOP 2022 - 24 e 25 de novembro
DESCRIPTION:Estádio Athletico Paranaense será palco do maior evento da TI
  pública do Brasil Em sua 49ª edição\,  Seminário Nacional de TIC para
  a Gestão Pública (SECOP) reúne representantes de TIC do setor público 
 com o tema “Governo e Tecnologia com Foco no Cidadão”; evento acontece
  em Curitiba\,  nos dias 24[..]\nhttps://cryptoid.com.br/eventos/secop-2022
 -24-e-25-de-novembro/
URL:https://cryptoid.com.br/eventos/secop-2022-24-e-25-de-novembro/
END:VEVENT
END:VCALENDAR