BEGIN:VCALENDAR
VERSION:2.0
PRODID:-//eventon.com NONSGML v1.0//EN
CALSCALE:GREGORIAN
METHOD:PUBLISH
BEGIN:VEVENT
UID:69e8be3c32cbe
DTSTAMP:20260422T122532Z
DTSTART:20221025T083000Z
DTEND:20221026T183000Z
LOCATION:PRO Magno Centro de Eventos Av. Profa. Ida Kolb\,  513 - Jardim das Laranjeiras\,  São Paulo - SP\,  02518-000
SUMMARY:CQCS INSURTECH & INNOVATION 2022
DESCRIPTION:O maior evento Latino Americano de Inovação em Seguros A quar
 ta edição do CQCS Insurtech &amp; Innovation\,  o maior evento Latino Ame
 ricano de Inovação em Seguros\,  consolidado também como um dos principa
 is do Mundo será realizada em outubro na cidade de São Paulo Como nos out
 ros anos\,  participarão agências reguladoras\, [..]\nhttps://cryptoid.co
 m.br/eventos/cqcs-insurtech-innovation-2022/
URL:https://cryptoid.com.br/eventos/cqcs-insurtech-innovation-2022/
END:VEVENT
END:VCALENDAR