BEGIN:VCALENDAR
VERSION:2.0
PRODID:-//eventon.com NONSGML v1.0//EN
CALSCALE:GREGORIAN
METHOD:PUBLISH
BEGIN:VEVENT
UID:69e6bffbea7be
DTSTAMP:20260421T000827Z
DTSTART:20230627T090000Z
DTEND:20230629T190000Z
LOCATION:Transamerica Expo Center - SÃ£o Paulo Avenida Doutor MÃ¡rio Vilas Boas Rodrigues\,  387\,  Santo Amaro â€“ SÃ£o Paulo/SP
SUMMARY:FEBRABAN TECH 2023
DESCRIPTION:FEBRABAN TECH 2023 O prÃ³ximo&nbsp;FEBRABAN TECH&nbsp;tem data 
 e local confirmados. A 33Âª ediÃ§Ã£o do maior evento de tecnologia e inovaÃ
 §Ã£o do setor financeiro na AmÃ©rica Latina serÃ¡ de&nbsp;27 a 29 de junho 
 de 2023\,  no&nbsp;Transamerica Expo Center\,  em SÃ£o Paulo (SP). A 33Âª e
 diÃ§Ã£o do maior evento de tecnologia e[..]\nhttps://cryptoid.com.br/evento
 s/febraban-tech-2023/
URL:https://cryptoid.com.br/eventos/febraban-tech-2023/
END:VEVENT
END:VCALENDAR