BEGIN:VCALENDAR
VERSION:2.0
PRODID:-//eventon.com NONSGML v1.0//EN
CALSCALE:GREGORIAN
METHOD:PUBLISH
BEGIN:VEVENT
UID:69e960f3bf22f
DTSTAMP:20260422T235947Z
DTSTART:20230424T132600Z
DTEND:20230427T132600Z
LOCATION:Moscone Center 747 Howard St\,  San Francisco\,  CA 94103\,  EUA
SUMMARY:RSA Conference - 24 a 27 de abril de 2023
DESCRIPTION:O tema escolhido para a RSA Conference de 2023 é &#8220;Strong
  Together&#8221;\,  o evento acontece de 24 a 27 de abril em São Francisco
 \,  Estados Unidos Por 31 anos\,  a RSA Conference tem sido uma força por 
 trás da agenda mundial de segurança cibernética. E\,  ao longo desse tem
 po\,  vimos[..]\nhttps://cryptoid.com.br/eventos/rsa-conference-24-a-27-de-
 abril-de-2023/
URL:https://cryptoid.com.br/eventos/rsa-conference-24-a-27-de-abril-de-2023/
END:VEVENT
END:VCALENDAR