BEGIN:VCALENDAR
VERSION:2.0
PRODID:-//eventon.com NONSGML v1.0//EN
CALSCALE:GREGORIAN
METHOD:PUBLISH
BEGIN:VEVENT
UID:69e90cb3b1a4b
DTSTAMP:20260422T180019Z
DTSTART:20230308T140000Z
DTEND:20230308T173000Z
LOCATION:
SUMMARY:Seminário Identidade Brasileira 2023- 8 de março
DESCRIPTION:Em menos de 24h após a abertura das inscrições\,  o “Semin
 ário Identidade Brasileira”&nbsp;já registrou mais de 500 participantes
  confirmados Em menos de 24h após a abertura das inscrições\,  o “Semi
 nário Identidade Brasileira – Governança e Legitimidade”&nbsp;já reg
 istrou mais de 500 participantes confirmados. Organizado e realizado pelo I
 nstituto Internacional de Identificação[..]\nhttps://cryptoid.com.br/even
 tos/seminario-identidade-brasileira-2023-8-de-marco/
URL:https://cryptoid.com.br/eventos/seminario-identidade-brasileira-2023-8-de-marco/
END:VEVENT
END:VCALENDAR