BEGIN:VCALENDAR
VERSION:2.0
PRODID:-//eventon.com NONSGML v1.0//EN
CALSCALE:GREGORIAN
METHOD:PUBLISH
BEGIN:VEVENT
UID:69e8b25511a45
DTSTAMP:20260422T113445Z
DTSTART:20230320T084200Z
DTEND:20230322T184200Z
LOCATION:Lake Buena Vista Lake Buena Vista \,  FlÃ³rida 32830\,  Estados Unidos
SUMMARY:Gartner Data & Analytics Summit
DESCRIPTION:Junte-se a nÃ³s no Gartner Data and Analytics Summit\,  onde ap
 resentaremos soluÃ§Ãµes para os desafios mais significativos que vocÃª estÃ
 ¡ enfrentando Sobre o evento O mais importante encontro de lÃ­deres de dado
 s e anÃ¡lises do mundo Em todo o mundo\,  as organizaÃ§Ãµes estÃ£o aproveit
 ando o verdadeiro poder das estratÃ©gias de[..]\nhttps://cryptoid.com.br/ev
 entos/gartner-data-analytics-summit/
URL:https://cryptoid.com.br/eventos/gartner-data-analytics-summit/
END:VEVENT
END:VCALENDAR