BEGIN:VCALENDAR
VERSION:2.0
PRODID:-//eventon.com NONSGML v1.0//EN
CALSCALE:GREGORIAN
METHOD:PUBLISH
BEGIN:VEVENT
UID:69e97ba1ada13
DTSTAMP:20260423T015337Z
DTSTART:20230725T120000Z
DTEND:20230730T180000Z
LOCATION:Av. Olavo Fontoura\,  1209 - Santana\,  São Paulo Av. Olavo Fontoura\,  1209
SUMMARY:Campus Party 2023 - 25-30 Julho
DESCRIPTION:A Campus Party é o maior festival de tecnologia\,  empreendedo
 rismo\,  ciência e positividade do mundo\,  com mais de 70 edições em 30
  países QUERO MEU INGRESSO Pela&nbsp;15ª vez\,  a&nbsp;Campus Party Brasi
 l&nbsp;irá acontecer! O&nbsp;maior festival sobre tecnologia\,  disrupçã
 o\,  empreendedorismo e STEAM&nbsp;chega em São Paulo. A&nbsp;#CPBR15&nbsp
 ;traz um&nbsp;universo de games\,  desenvolvimento\,  empreendedores\,  com
 [..]\nhttps://cryptoid.com.br/eventos/a-campus-party-e-o-maior-festival-de-
 tecnologia-empreendedorismo-ciencia-e-disruptividade-do-mundo-com-mais-de-7
 0-edicoes-em-30-paises/
URL:https://cryptoid.com.br/eventos/a-campus-party-e-o-maior-festival-de-tecnologia-empreendedorismo-ciencia-e-disruptividade-do-mundo-com-mais-de-70-edicoes-em-30-paises/
END:VEVENT
END:VCALENDAR