BEGIN:VCALENDAR
VERSION:2.0
PRODID:-//eventon.com NONSGML v1.0//EN
CALSCALE:GREGORIAN
METHOD:PUBLISH
BEGIN:VEVENT
UID:69ec2fbf30a6b
DTSTAMP:20260425T030639Z
DTSTART:20230517T090000Z
DTEND:20230517T180000Z
LOCATION:Transamerica Expo Center - São Paulo Avenida Doutor Mário Vilas Boas Rodrigues\,  387\,  Santo Amaro – São Paulo/SP
SUMMARY:Fraud Day 2023 - 17 de maio
DESCRIPTION:O Fraud Day está em sua 4ª edição e é o primeiro evento do
  mercado brasileiro voltado para especialistas de risco em e-commerce Ideal
 izado e organizado pela Konduto\,  o Fraud Day contou em sua edição de es
 treia com palestras de profissionais que são referência na análise de ri
 sco do Brasil.[..]\nhttps://cryptoid.com.br/eventos/fraud-day-2023-17-de-ma
 io/
URL:https://cryptoid.com.br/eventos/fraud-day-2023-17-de-maio/
END:VEVENT
END:VCALENDAR