BEGIN:VCALENDAR
VERSION:2.0
PRODID:-//eventon.com NONSGML v1.0//EN
CALSCALE:GREGORIAN
METHOD:PUBLISH
BEGIN:VEVENT
UID:69eb93f215230
DTSTAMP:20260424T160154Z
DTSTART:20230508T191500Z
DTEND:20230508T191500Z
LOCATION:Centro de Congressos de Berlim Alexanderstraße 11\,  10178
SUMMARY:European Identity and Cloud Conference - eic
DESCRIPTION:A European Identity and Cloud Conference é o local onde a iden
 tidade digital e a comunidade cibernética se reúnem para definir o rumo p
 ara o futuro da digitalização. Venha para Berlim ou sintonize on-line e o
 btenha insights úteis para sua jornada de digitalização\,  construa parc
 erias estratégicas para seus negócios e[..]\nhttps://cryptoid.com.br/even
 tos/european-identity-and-cloud-conference-eic/
URL:https://cryptoid.com.br/eventos/european-identity-and-cloud-conference-eic/
END:VEVENT
END:VCALENDAR