BEGIN:VCALENDAR
VERSION:2.0
PRODID:-//eventon.com NONSGML v1.0//EN
CALSCALE:GREGORIAN
METHOD:PUBLISH
BEGIN:VEVENT
UID:69e9a8c057556
DTSTAMP:20260423T050608Z
DTSTART:20230706T130000Z
DTEND:20230706T211500Z
LOCATION:INSTITUTO LING R. João Caetano\,  440 - Três Figueiras\,  Porto Alegre - RS\,  90470-260
SUMMARY:DOC9 SUMMIT 2023
DESCRIPTION:A Doc9 é uma das maiores lawtechs do Brasil e é responsável 
 pelo desenvolvimento de soluções voltadas para otimização da rotina jur
 ídica. O Doc9 Summit será um espaço para debate\,  networking e conteúd
 os exclusivos. Sua proposta é construir um ambiente focado na experiência
  dos convidados\,  reunindo speakers referência do mercado[..]\nhttps://cr
 yptoid.com.br/eventos/doc9-summit-2023/
URL:https://cryptoid.com.br/eventos/doc9-summit-2023/
END:VEVENT
END:VCALENDAR