BEGIN:VCALENDAR
VERSION:2.0
PRODID:-//eventon.com NONSGML v1.0//EN
CALSCALE:GREGORIAN
METHOD:PUBLISH
BEGIN:VEVENT
UID:69e686cf40331
DTSTAMP:20260420T200431Z
DTSTART:20231003T145500Z
DTEND:20231005T145500Z
LOCATION:São Paulo Expo Center  Rodovia dos Imigrantes\,  km 1.5 - 04329-90
SUMMARY:Futurecom 2023 - 3 a 5 de outubro
DESCRIPTION:&#8220;Connecting the Interactions – a era da interação de 
 dados\,  pessoas e negócios conectados&#8221; é o tema da Futurecom 2023 
 O Futurecom é a maior plataforma B2B de conteúdo e relacionamento voltada
  ao universo de conectividade da América Latina. Há 24 anos fomentando o 
 mercado\,  combina exposição\,  experiências\,  debates\,  networking[..
 ]\nhttps://cryptoid.com.br/eventos/futurecom-2023-3-a-5-de-outubro/
URL:https://cryptoid.com.br/eventos/futurecom-2023-3-a-5-de-outubro/
END:VEVENT
END:VCALENDAR