BEGIN:VCALENDAR
VERSION:2.0
PRODID:-//eventon.com NONSGML v1.0//EN
CALSCALE:GREGORIAN
METHOD:PUBLISH
BEGIN:VEVENT
UID:69e8cad2d7ad9
DTSTAMP:20260422T131914Z
DTSTART:20230807T090000Z
DTEND:20230808T183000Z
LOCATION:Centro de Convenções Rebouças Av. Rebouças\,  600 - Pinheiros\,  São Paulo - SP\,  05402-000
SUMMARY:1º Simpósio Internacional - Transformação Digital no SUS
DESCRIPTION:O 1º Simpósio Internacional de Transformação Digital no SUS
  é uma realização da Secretaria de Informação e Saúde Digital do Mini
 stério da Saúde O 1º Simpósio Internacional de Transformação Digital 
 no SUS é uma realização da Secretaria de Informação e Saúde Digital d
 o Ministério da Saúde (SEIDIGI/MS)\,  em parceria com[..]\nhttps://crypto
 id.com.br/eventos/1o-simposio-internacional-transformacao-digital-no-sus/
URL:https://cryptoid.com.br/eventos/1o-simposio-internacional-transformacao-digital-no-sus/
END:VEVENT
END:VCALENDAR