BEGIN:VCALENDAR
VERSION:2.0
PRODID:-//eventon.com NONSGML v1.0//EN
CALSCALE:GREGORIAN
METHOD:PUBLISH
BEGIN:VEVENT
UID:69e8629a6455d
DTSTAMP:20260422T055434Z
DTSTART:20230919T091000Z
DTEND:20230921T172000Z
LOCATION:CENTRO DE EVENTOS E CONVENÇÕES BRASIL 21 SHS Quadra 06 - Complexo Brasil 21
SUMMARY:CERTFORUM 2023 - 19 a 21 de setembro
DESCRIPTION:Após dois anos na modalidade virtual\,  o&nbsp;CERTFORUM\,  ma
 is importante evento sobre certificação digital no padrão ICP-Brasil\,  
 acontecerá em setembro Nos dias 19\,  20 e 21 de setembro\,  o Instituto N
 acional de Tecnologia da Informação (ITI) promoverá a 20º edição do F
 órum de Certificação Digital &#8211; Certforum. O evento\,  que ocorreu[
 ..]\nhttps://cryptoid.com.br/eventos/certforum-2023-19-a-21-de-setembro/
URL:https://cryptoid.com.br/eventos/certforum-2023-19-a-21-de-setembro/
END:VEVENT
END:VCALENDAR