BEGIN:VCALENDAR
VERSION:2.0
PRODID:-//eventon.com NONSGML v1.0//EN
CALSCALE:GREGORIAN
METHOD:PUBLISH
BEGIN:VEVENT
UID:69e8529c2e726
DTSTAMP:20260422T044620Z
DTSTART:20230912T142200Z
DTEND:20230914T142200Z
LOCATION:Transamerica Expo Center - São Paulo Avenida Doutor Mário Vilas Boas Rodrigues\,  387\,  Santo Amaro – São Paulo/SP
SUMMARY:Mind the Sec 2023 - 12 a 14 de setembro
DESCRIPTION:Em setembro\,  acontece o Mind The Sec\,  o maior e mais qualif
 icado evento de segurança da informação e cibersegurança da América La
 tina Unindo conteúdos de altíssima qualidade com experiências pensadas p
 ara networking e geração de negócios\,  o Mind The Sec é o principal ev
 ento corporativo para o encontro de decisores\, [..]\nhttps://cryptoid.com.
 br/eventos/mind-the-sec-2023-12-a-14-de-setembro/
URL:https://cryptoid.com.br/eventos/mind-the-sec-2023-12-a-14-de-setembro/
END:VEVENT
END:VCALENDAR