BEGIN:VCALENDAR
VERSION:2.0
PRODID:-//eventon.com NONSGML v1.0//EN
CALSCALE:GREGORIAN
METHOD:PUBLISH
BEGIN:VEVENT
UID:69e71d109f41d
DTSTAMP:20260421T064536Z
DTSTART:20240625T181500Z
DTEND:20240627T181500Z
LOCATION:Transamerica Expo Center - SÃ£o Paulo Avenida Doutor MÃ¡rio Vilas Boas Rodrigues\,  387\,  Santo Amaro â€“ SÃ£o Paulo/SP
SUMMARY:Febraban Tech 2024 - 25 a 27 de junho
DESCRIPTION:O evento acontecerÃ¡ nos dias 25 a 27 de junho de 2024 e falarÃ
 ¡ sobre inteligÃªncia artificial generativa\,  internet 5G e 6G e outros as
 suntos FEBRABAN TECH 2024: O Maior Evento de Tecnologia Financeira na AmÃ©r
 ica Latina! HistÃ³rico de Parceria O Crypto ID tem o orgulho de ser histori
 camente parceiro[..]\nhttps://cryptoid.com.br/eventos/febraban-tech-2024-25
 -a-27-de-junho/
URL:https://cryptoid.com.br/eventos/febraban-tech-2024-25-a-27-de-junho/
END:VEVENT
END:VCALENDAR