BEGIN:VCALENDAR
VERSION:2.0
PRODID:-//eventon.com NONSGML v1.0//EN
CALSCALE:GREGORIAN
METHOD:PUBLISH
BEGIN:VEVENT
UID:69e8935857a76
DTSTAMP:20260422T092232Z
DTSTART:20240410T110000Z
DTEND:20240410T120000Z
LOCATION:
SUMMARY:HID Mobile Identities para empreendimentos imobiliários corporativos
DESCRIPTION:O papel do controle de acesso móvel em projetos imobiliários 
 corporativos\,  tópico do próximo webinar da HID A&nbsp;HID\, &nbsp;líde
 r mundial em soluções de identificação confiáveis e pioneira em tecnol
 ogia de acesso móvel\,  anuncia um webinar intitulado “HID Mobile Identi
 ties para empreendimentos imobiliários corporativos”. Este evento está 
 programado para o dia 10[..]\nhttps://cryptoid.com.br/eventos/hid-mobile-id
 entities-para-empreendimentos-imobiliarios-corporativos/
URL:https://cryptoid.com.br/eventos/hid-mobile-identities-para-empreendimentos-imobiliarios-corporativos/
END:VEVENT
END:VCALENDAR