BEGIN:VCALENDAR
VERSION:2.0
PRODID:-//eventon.com NONSGML v1.0//EN
CALSCALE:GREGORIAN
METHOD:PUBLISH
BEGIN:VEVENT
UID:69e89b24dc514
DTSTAMP:20260422T095548Z
DTSTART:20240618T090000Z
DTEND:20240619T190000Z
LOCATION:EXPO Center Norte Rua José Bernardo Pinto\,  333 - Vila Guilherme - Pavilhão Azul
SUMMARY:UNIVERSO TOTVS 2024
DESCRIPTION:VIVA O UNIVERSO TOTVS 2024! 18 e 19 de junho | Expo Center Nort
 e &#8211; São Paulo MAIS QUE UM EVENTO\,  UMA EXPERIÊNCIA Tudo sobre tecn
 ologia e negócios em uma verdadeira imersão para provocar você a pensar 
 em como fazer mais e melhor. Em um mundo onde os conteúdos estão[..]\nhtt
 ps://cryptoid.com.br/eventos/universo-totvs-2024/
URL:https://cryptoid.com.br/eventos/universo-totvs-2024/
END:VEVENT
END:VCALENDAR