BEGIN:VCALENDAR
VERSION:2.0
PRODID:-//eventon.com NONSGML v1.0//EN
CALSCALE:GREGORIAN
METHOD:PUBLISH
BEGIN:VEVENT
UID:69e71d10e8d27
DTSTAMP:20260421T064536Z
DTSTART:20240827T090000Z
DTEND:20240828T180000Z
LOCATION:Amcham Rua da Paz\,  1431
SUMMARY:CISO Forum 2024
DESCRIPTION:CISO Forum 2024: O encontro Premier para líderes visionários 
 em Segurança da Informação e Cibersegurança Líderes visionários\,  es
 pecialistas e empresas líderes se reunem no CISO Forum para discutir as ú
 ltimas tendências e estratégias no campo da cibersegurança O CISO Forum\
 ,  uma iniciativa exclusiva para líderes visionários em segurança da inf
 ormação[..]\nhttps://cryptoid.com.br/eventos/ciso-forum-2024/
URL:https://cryptoid.com.br/eventos/ciso-forum-2024/
END:VEVENT
END:VCALENDAR