BEGIN:VCALENDAR
VERSION:2.0
PRODID:-//eventon.com NONSGML v1.0//EN
CALSCALE:GREGORIAN
METHOD:PUBLISH
BEGIN:VEVENT
UID:69e95ea79250f
DTSTAMP:20260422T234959Z
DTSTART:20241028T090000Z
DTEND:20241029T190000Z
LOCATION:Grand Hyatt Hotel
SUMMARY:Cyber Security Summit 2024
DESCRIPTION:Evento Exclusivo de Cibersegurança no Grand Hyatt: Protegendo 
 Organizações no Mundo Digital Nos dias 28 e 29 de outubro\,  o Grand Hyat
 t será palco de um evento exclusivo que reunirá os principais especialist
 as em cibersegurança. Durante esses dois dias intensivos\,  os participant
 es terão acesso a insights valiosos e soluções inovadoras[..]\nhttps://c
 ryptoid.com.br/eventos/cyber-security-summit-2024/
URL:https://cryptoid.com.br/eventos/cyber-security-summit-2024/
END:VEVENT
END:VCALENDAR