BEGIN:VCALENDAR
VERSION:2.0
PRODID:-//eventon.com NONSGML v1.0//EN
CALSCALE:GREGORIAN
METHOD:PUBLISH
BEGIN:VEVENT
UID:69e67dba0b7d3
DTSTAMP:20260420T192546Z
DTSTART:20240724T090000Z
DTEND:20240725T180000Z
LOCATION:EXPO MAG R. Beatriz Larragoiti Lucas\,  s/n - Cidade Nova\,  Rio de Janeiro - RJ\,  20211-175
SUMMARY:Blockchain Rio 2024
DESCRIPTION:O maior evento de tecnologia blockchain e finanÃ§as digitais da
  AmÃ©rica Latina estÃ¡ de volta! O time do Blockchain.Rio preparou uma ediÃ
 §Ã£o incrivel para o ano de 2024\,  que acontecerÃ¡ nos diasÂ 24 e 25 de ju
 lho no ExpoRioÂ que fica localizado na Cidade Nova\,  no Rio de Janeiro. Um
  dia antes[..]\nhttps://cryptoid.com.br/eventos/blockchain-rio-2024/
URL:https://cryptoid.com.br/eventos/blockchain-rio-2024/
END:VEVENT
END:VCALENDAR