BEGIN:VCALENDAR
VERSION:2.0
PRODID:-//eventon.com NONSGML v1.0//EN
CALSCALE:GREGORIAN
METHOD:PUBLISH
BEGIN:VEVENT
UID:69e8711f36392
DTSTAMP:20260422T065631Z
DTSTART:20240613T090000Z
DTEND:20240615T130000Z
LOCATION:HOTEL WINDSOR FLÓRIDA R. Ferreira Viana\,  81 – Flamengo\,  Rio de Janeiro
SUMMARY:XVI Congresso Brasileiro de Identificação
DESCRIPTION:Evento de identificação humana com foco na disseminação de 
 conhecimento\,  inovação nas biometrias e desenvolvimento da papiloscopia
  forense Reúne o melhor de cada evento para tornar o evento unificado aind
 a mais completo:Público estimado: entre 300 e 400 pessoas Local: Rio de Ja
 neiro 13 de Junho – das 9h às 19h[..]\nhttps://cryptoid.com.br/eventos/x
 vi-congresso-brasileiro-de-identificacao/
URL:https://cryptoid.com.br/eventos/xvi-congresso-brasileiro-de-identificacao/
END:VEVENT
END:VCALENDAR