BEGIN:VCALENDAR
VERSION:2.0
PRODID:-//eventon.com NONSGML v1.0//EN
CALSCALE:GREGORIAN
METHOD:PUBLISH
BEGIN:VEVENT
UID:69e89358d2bf1
DTSTAMP:20260422T092232Z
DTSTART:20241008
DTEND:20241009
LOCATION:São Paulo Expo Center  Rodovia dos Imigrantes\,  km 1.5 - 04329-90
SUMMARY:Futurecom - De 08 a 10 de Outubro de 2024
DESCRIPTION:O FUTURECOM\,  maior evento de conectividade\,  inovação e te
 cnologia da América Latina\,  que será realizado de 8 a 10 de outubro no 
 São Paulo Expo Em encontro realizado com atuais e futuros expositores e pa
 trocinadores\,  o FUTURECOM\,  maior evento de conectividade\,  inovação 
 e tecnologia da América Latina\,  que será realizado[..]\nhttps://cryptoi
 d.com.br/eventos/futurecom-de-08-a-10-de-outubro-de-2024/
URL:https://cryptoid.com.br/eventos/futurecom-de-08-a-10-de-outubro-de-2024/
END:VEVENT
END:VCALENDAR