BEGIN:VCALENDAR
VERSION:2.0
PRODID:-//eventon.com NONSGML v1.0//EN
CALSCALE:GREGORIAN
METHOD:PUBLISH
BEGIN:VEVENT
UID:69e5fe3e9f4ad
DTSTAMP:20260420T102150Z
DTSTART:20240917
DTEND:20240918
LOCATION:Transamerica Expo Center - São Paulo Avenida Doutor Mário Vilas Boas Rodrigues\,  387\,  Santo Amaro – São Paulo/SP
SUMMARY:MIND THE SEC 2024
DESCRIPTION:Venha fazer parte do Mind The Sec 2024\,  evento voltado a deci
 sores de Segurança da Informação e gestores corporativos O Mind The Sec 
 é um evento voltado a decisores de Segurança da Informação e gestores c
 orporativos que buscam discutir os desafios e impactos da área em suas emp
 resas\,  no mercado[..]\nhttps://cryptoid.com.br/eventos/microsoft-desativa
 -ultimo-data-center-submerso-do-projeto-natick/
URL:https://cryptoid.com.br/eventos/microsoft-desativa-ultimo-data-center-submerso-do-projeto-natick/
END:VEVENT
END:VCALENDAR