BEGIN:VCALENDAR
VERSION:2.0
PRODID:-//eventon.com NONSGML v1.0//EN
CALSCALE:GREGORIAN
METHOD:PUBLISH
BEGIN:VEVENT
UID:69e9cf7ff0e62
DTSTAMP:20260423T075127Z
DTSTART:20240730T080000Z
DTEND:20240730T190000Z
LOCATION:Centro de Convenções Frei Caneca Rua Frei Caneca\,  nº 569 - São Paulo/ SP
SUMMARY:AB2L Lawtech Experience 2024
DESCRIPTION:EVENTO PRESENCIAL O AB2LEX 2024 &#8211; AB2L Lawtech Experience
  é mais do que um simples evento; é uma imersão total em um futuro onde 
 a tecnologia redefine a prática jurídica como nunca antes. Prepare-se par
 a uma experiência que reúne o melhor do presente e do futuro: Palestras c
 om os principais[..]\nhttps://cryptoid.com.br/eventos/ab2l-lawtech-experien
 ce-2024/
URL:https://cryptoid.com.br/eventos/ab2l-lawtech-experience-2024/
END:VEVENT
END:VCALENDAR