BEGIN:VCALENDAR
VERSION:2.0
PRODID:-//eventon.com NONSGML v1.0//EN
CALSCALE:GREGORIAN
METHOD:PUBLISH
BEGIN:VEVENT
UID:69e9b7dbaa615
DTSTAMP:20260423T061035Z
DTSTART:20240730T150000Z
DTEND:20240801T210000Z
LOCATION:Anhembi - Centro de eventos Avenida Olavo Fontoura\,  1209
SUMMARY:E-commerce Brasil  2024: 15ª edição
DESCRIPTION:O Fórum E-Commerce Brasil é o principal evento de e-commerce 
 da América Latina e o maior do mundo! Este ano\,  estará 50% maior em tam
 anho em novo local no Distrito Anhembi atendendo mais de 25.000 congressist
 as\,  mais de 270 expositores e oferecendo mais de 350 horas de palestras e
 m três[..]\nhttps://cryptoid.com.br/eventos/e-commerce-brasil-2024-15a-edi
 cao/
URL:https://cryptoid.com.br/eventos/e-commerce-brasil-2024-15a-edicao/
END:VEVENT
END:VCALENDAR