BEGIN:VCALENDAR
VERSION:2.0
PRODID:-//eventon.com NONSGML v1.0//EN
CALSCALE:GREGORIAN
METHOD:PUBLISH
BEGIN:VEVENT
UID:69e6ff957d4d9
DTSTAMP:20260421T043949Z
DTSTART:20240828T080000Z
DTEND:20240830T210000Z
LOCATION:Hotel Royal Tulip Brasilia Alvorada SHTN Trecho 1 Conjunto 1B - Bloco C - Asa Norte\,  Brasília
SUMMARY:CONIP JUDICIÁRIO E CONTROLE 2024
DESCRIPTION:Inovação e tecnologia como alavancas de transformação do po
 der judiciário CONIP JUDICIÁRIO E CONTROLE CONIP JUDICIÁRIO E CONTROLE O
  evento CONIP JUDICIÁRIO E CONTROLE tem como objetivo contribuir para a co
 nscientização da necessidade da transformação da jornada dos operadores
  do Poder Judiciário e dos Órgãos de Controle auxiliando no uso[..]\nhtt
 ps://cryptoid.com.br/eventos/conip-judiciario-e-controle-2024/
URL:https://cryptoid.com.br/eventos/conip-judiciario-e-controle-2024/
END:VEVENT
END:VCALENDAR