BEGIN:VCALENDAR
VERSION:2.0
PRODID:-//eventon.com NONSGML v1.0//EN
CALSCALE:GREGORIAN
METHOD:PUBLISH
BEGIN:VEVENT
UID:69e722419c0e0
DTSTAMP:20260421T070745Z
DTSTART:20240923
DTEND:20240924
LOCATION:MGM Grand\,  Las Vegas 3799 S Las Vegas Blvd\,  Las Vegas\,  NV 89109\,  Estados Unidos
SUMMARY:NETAPP INSIGHT 2024\,  LAS VEGAS
DESCRIPTION:NetApp Insight 2024\,  september 23–25 in MGM Grand\,  Las V
 egas\,  get a glimpse of the goodness in store and get ready for an event l
 ike no other INSIGHT 2024 is the tech festival of the year\,  a can’t mi
 ss global gathering of innovators\,  dreamers\,  and data drivers where we
  celebrate YOU\,  our N-Powered Heroes.[..]\nhttps://cryptoid.com.br/event
 os/netapp-insight-2024-las-vegas/
URL:https://cryptoid.com.br/eventos/netapp-insight-2024-las-vegas/
END:VEVENT
END:VCALENDAR