BEGIN:VCALENDAR
VERSION:2.0
PRODID:-//eventon.com NONSGML v1.0//EN
CALSCALE:GREGORIAN
METHOD:PUBLISH
BEGIN:VEVENT
UID:69e6897c7706d
DTSTAMP:20260420T201556Z
DTSTART:20250930
DTEND:20251001
LOCATION:São Paulo Expo Center  Rodovia dos Imigrantes\,  km 1.5 - 04329-90
SUMMARY:FUTURECOM 2025
DESCRIPTION:O futuro da Conectividade e Telecomunicações começa aqui! Fu
 turecom\,  dias 30 a 02 de outubro de 2025\,  no São Paulo Expo FUTURECOM 
 O Futurecom é uma plataforma dinâmica de B2B que\,  ao longo de mais de 2
 0 anos\,  tem sido um hub crucial para negócios e inovação no mercado. C
 omo[..]\nhttps://cryptoid.com.br/eventos/futurecom-2025/
URL:https://cryptoid.com.br/eventos/futurecom-2025/
END:VEVENT
END:VCALENDAR