BEGIN:VCALENDAR
VERSION:2.0
PRODID:-//eventon.com NONSGML v1.0//EN
CALSCALE:GREGORIAN
METHOD:PUBLISH
BEGIN:VEVENT
UID:69e8d67e7dee9
DTSTAMP:20260422T140902Z
DTSTART:20250311
DTEND:20250312
LOCATION:Distrito Anhembi - Centro de convenções Av. Olavo Fontoura 1209
SUMMARY:2º Congresso sobre Prevenção e Repressão a Fraude promovido pela Febraban
DESCRIPTION:Febraban promoverá 2º Congresso de Prevenção e Repressão a
  Fraudes\,  Segurança Cibernética e Bancária e inscrições já estão a
 bertas As inscrições para o&nbsp;2º Congresso de Prevenção e Repressã
 o a Fraudes\,  Segurança Cibernética e Bancária já estão abertas. O ev
 ento\,  promovido pela Febraban e seus bancos associados\,  será realizado
  nos dias[..]\nhttps://cryptoid.com.br/eventos/congresso-de-seguranca-da-fe
 braban/
URL:https://cryptoid.com.br/eventos/congresso-de-seguranca-da-febraban/
END:VEVENT
END:VCALENDAR