BEGIN:VCALENDAR
VERSION:2.0
PRODID:-//eventon.com NONSGML v1.0//EN
CALSCALE:GREGORIAN
METHOD:PUBLISH
BEGIN:VEVENT
UID:69e5fe3f2cb89
DTSTAMP:20260420T102151Z
DTSTART:20250520
DTEND:20250521
LOCATION:São Paulo Expo Center  Rodovia dos Imigrantes\,  km 1.5 - 04329-90
SUMMARY:HOSPITALAR 2025!
DESCRIPTION:O credenciamento para a Hospitalar 2025 já está aberto\,  e
  esta é a sua chance de fazer parte do maior evento de saúde da América 
 Latina! A Hospitalar\,  com mais de 30 anos de história\,  é o maior ev
 ento de saúde da América Latina\,  conectando profissionais\,  empresas e
  líderes do setor para apresentar inovações[..]\nhttps://cryptoid.com.br
 /eventos/hospitalar-2025/
URL:https://cryptoid.com.br/eventos/hospitalar-2025/
END:VEVENT
END:VCALENDAR