BEGIN:VCALENDAR
VERSION:2.0
PRODID:-//eventon.com NONSGML v1.0//EN
CALSCALE:GREGORIAN
METHOD:PUBLISH
BEGIN:VEVENT
UID:69e726fd2d166
DTSTAMP:20260421T072757Z
DTSTART:20250324T081000Z
DTEND:20250325T180000Z
LOCATION:EXPO Center Norte Rua José Bernardo Pinto\,  333 - Vila Guilherme - Pavilhão Azul
SUMMARY:ERP Summit 2025
DESCRIPTION:Participe do ERP Summit 2025\,  o maior evento de software e ge
 stão empresarial da América Latina\,  que acontecerá nos dias 24 e 25 de
  março de 2025\,  no Expo Center Norte\,  Pavilão Azul em São Paulo. Est
 e evento reunirá os principais líderes\,  especialistas e empresas do set
 or para discutir as[..]\nhttps://cryptoid.com.br/eventos/erp-summit-2025/
URL:https://cryptoid.com.br/eventos/erp-summit-2025/
END:VEVENT
END:VCALENDAR