BEGIN:VCALENDAR
VERSION:2.0
PRODID:-//eventon.com NONSGML v1.0//EN
CALSCALE:GREGORIAN
METHOD:PUBLISH
BEGIN:VEVENT
UID:69eae386bba23
DTSTAMP:20260424T032910Z
DTSTART:20250407
DTEND:20250408
LOCATION:
SUMMARY:Identity Management Day 2025: O Epicentro Mundial da Segurança de Identidade
DESCRIPTION:O Identity Management Day 2025\,  com o tema “Identidade Exis
 tencial”\,  abordará a complexidade das múltiplas identidades que possu
 ímos Como o maior canal brasileiro sobre identidade digital\,  é com gran
 de entusiasmo que destacamos o Identity Management Day (IMD) 2025\,  um eve
 nto global que se consolidou como referência em segurança de identidade.[
 ..]\nhttps://cryptoid.com.br/eventos/identity-management-day-2025-o-epicent
 ro-mundial-da-seguranca-de-identidade/
URL:https://cryptoid.com.br/eventos/identity-management-day-2025-o-epicentro-mundial-da-seguranca-de-identidade/
END:VEVENT
END:VCALENDAR