BEGIN:VCALENDAR
VERSION:2.0
PRODID:-//eventon.com NONSGML v1.0//EN
CALSCALE:GREGORIAN
METHOD:PUBLISH
BEGIN:VEVENT
UID:69e7a38542eae
DTSTAMP:20260421T161917Z
DTSTART:20250806
DTEND:20250807
LOCATION:EXPO RIO R. Beatriz Larragoiti Lucas\,  s/n - Cidade Nova\,  Rio de Janeiro - RJ\,  20211-175
SUMMARY:Blockchain.RIO 2025
DESCRIPTION:O presente e o futuro da Web3 reunidos no maior festival da AmÃ
 ©rica Latina ADQUIRIR INGRESSO O Blockchain.RIO 2025 se consolida como uma 
 referÃªncia global em blockchain\,  finanÃ§as digitais e inovaÃ§Ã£o Web3. E
 m contagem regressiva para sua prÃ³xima ediÃ§Ã£o\,  o maior evento da AmÃ©r
 ica Latina sobre o tema entra na[..]\nhttps://cryptoid.com.br/eventos/block
 chain-rio-2025/
URL:https://cryptoid.com.br/eventos/blockchain-rio-2025/
END:VEVENT
END:VCALENDAR