BEGIN:VCALENDAR
VERSION:2.0
PRODID:-//eventon.com NONSGML v1.0//EN
CALSCALE:GREGORIAN
METHOD:PUBLISH
BEGIN:VEVENT
UID:69e75164c1796
DTSTAMP:20260421T102852Z
DTSTART:20251105
DTEND:20251106
LOCATION:EXPO Center Norte Rua José Bernardo Pinto\,  333 - Vila Guilherme - Pavilhão Azul
SUMMARY:RD Summit 2025
DESCRIPTION:O&nbsp;RD&nbsp;Summit&nbsp;2025\,  maior evento de Marketing e 
 Vendas da América Latina\,  acontece de 5 a 7 de novembro no Expo Center N
 orte\,  em São Paulo RD Summit 2025\,  a RD Station\,  unidade de negócio
 s da TOTVS\,  anuncia oficialmente a grade de conteúdo da 11ª edição do
  maior evento de Marketing e[..]\nhttps://cryptoid.com.br/eventos/rd-summit
 -2025/
URL:https://cryptoid.com.br/eventos/rd-summit-2025/
END:VEVENT
END:VCALENDAR