BEGIN:VCALENDAR
VERSION:2.0
PRODID:-//eventon.com NONSGML v1.0//EN
CALSCALE:GREGORIAN
METHOD:PUBLISH
BEGIN:VEVENT
UID:69e933341409f
DTSTAMP:20260422T204436Z
DTSTART:20260422
DTEND:20260423
LOCATION:Transamerica Expo Center - São Paulo Avenida Doutor Mário Vilas Boas Rodrigues\,  387\,  Santo Amaro – São Paulo/SP
SUMMARY:IAM TECH DAY 2026
DESCRIPTION:O IAM Tech Day está de volta em SP nos dias 22 e 23 de Abril d
 e 2026\,  no Transamerica Expo Center. Não Fique de fora! O IAM Tech Day e
 stá de volta em SP trazendo em 2 dias o melhor conteúdo de IAM por especi
 alistas e profissionais do mercado\, [..]\nhttps://cryptoid.com.br/eventos/
 iam-tech-day-2026/
URL:https://cryptoid.com.br/eventos/iam-tech-day-2026/
END:VEVENT
END:VCALENDAR