BEGIN:VCALENDAR
VERSION:2.0
PRODID:-//eventon.com NONSGML v1.0//EN
CALSCALE:GREGORIAN
METHOD:PUBLISH
BEGIN:VEVENT
UID:69ec1a5ecd1ba
DTSTAMP:20260425T013526Z
DTSTART:20260824
DTEND:20260825
LOCATION:Distrito Anhembi Av. Olavo Fontoura\,  1209 - Santana - São Paulo
SUMMARY:FEBRABAN TECH 2026
DESCRIPTION:FEBRABAN TECH 2026\,  no&nbsp;Distrito Anhembi\,  em São Paulo
 \,  nos dias&nbsp;24\,  25 e 26 de agosto. Não fique de fora! O&nbsp;FEBRA
 BAN TECH 2026\,  o maior evento de tecnologia e inovação do setor finance
 iro\,  chega este ano&nbsp;a uma nova casa:&nbsp;o&nbsp;Distrito Anhembi\, 
  em São Paulo. Nos dias&nbsp;24\,  25 e 26 de agosto\,  o[..]\nhttps://cry
 ptoid.com.br/eventos/febraban-tech-2026/
URL:https://cryptoid.com.br/eventos/febraban-tech-2026/
END:VEVENT
END:VCALENDAR