BEGIN:VCALENDAR
VERSION:2.0
PRODID:-//eventon.com NONSGML v1.0//EN
CALSCALE:GREGORIAN
METHOD:PUBLISH
BEGIN:VEVENT
UID:69e957d80744a
DTSTAMP:20260422T232056Z
DTSTART:20260420
DTEND:20260421
LOCATION:Messegelände\,  Hannover\,  Niedersachsen\,  DE\,  30521 Messegelände\,  Hannover\,  Niedersachsen\,  DE\,  30521
SUMMARY:Hannover Messe 2026
DESCRIPTION:HANNOVER MESSE consolidou-se como a principal plataforma intern
 acional para a transformação industrial e um dos encontros mais relevante
 s do mundo para quem busca compreender e liderar o futuro da indústria. Re
 alizada anualmente na cidade de Hannover\,  na Alemanha\,  a feira reúne l
 íderes empresariais\,  especialistas em tecnologia\,  pesquisadores e toma
 dores de[..]\nhttps://cryptoid.com.br/eventos/hannover-messe-2026/
URL:https://cryptoid.com.br/eventos/hannover-messe-2026/
END:VEVENT
END:VCALENDAR