BEGIN:VCALENDAR
VERSION:2.0
PRODID:-//eventon.com NONSGML v1.0//EN
CALSCALE:GREGORIAN
METHOD:PUBLISH
BEGIN:VEVENT
UID:69e91a998faa3
DTSTAMP:20260422T185937Z
DTSTART:20260428
DTEND:20260429
LOCATION:
SUMMARY:Conferência Gartner Data & Analytics 2026
DESCRIPTION:Faça parte da Conferência Gartner Data &amp; Analytics 2026\,
   nos dias 28 e 29 abril 2026\,  em São Paulo\,  Brasil Reserve a data par
 a a principal conferência voltada a líderes de dados\,  analytics e IA\, 
  onde serão apresentadas as novidades em gestão de dados\,  estratégia d
 e dados\,  ciência de dados\, [..]\nhttps://cryptoid.com.br/eventos/confer
 encia-gartner-data-analytics-2026/
URL:https://cryptoid.com.br/eventos/conferencia-gartner-data-analytics-2026/
END:VEVENT
END:VCALENDAR