BEGIN:VCALENDAR
VERSION:2.0
PRODID:-//eventon.com NONSGML v1.0//EN
CALSCALE:GREGORIAN
METHOD:PUBLISH
BEGIN:VEVENT
UID:69e8ed686c316
DTSTAMP:20260422T154648Z
DTSTART:20171111T090000Z
DTEND:20171112T050000Z
LOCATION:AUDIO Av. Francisco Matarazzo\,  694 Barra Funda - São Paulo
SUMMARY:Roadsec São Paulo
DESCRIPTION:ROADSEC É O MAIOR EVENTO DE HACKING\,  SEGURANÇA E TECNOLOGI
 A DO CONTINENTE! Consagrado como o maior festival hacker do continente\,  o
  Roadsec SP encerra o ano com um formato épico na AUDIO\,  com mais ativid
 ades e novidades do que nunca: O Roadsec já pecorreu por 18 capitais este
  ano\,  além da mega[..]\nhttps://cryptoid.com.br/eventos/roadsec-sao-paul
 o/
URL:https://cryptoid.com.br/eventos/roadsec-sao-paulo/
END:VEVENT
END:VCALENDAR