BEGIN:VCALENDAR
VERSION:2.0
PRODID:-//eventon.com NONSGML v1.0//EN
CALSCALE:GREGORIAN
METHOD:PUBLISH
BEGIN:VEVENT
UID:69e997310b038
DTSTAMP:20260423T035113Z
DTSTART:20180131T080000Z
DTEND:20180131T235000Z
LOCATION:Anhembi - Centro de eventos Avenida Olavo Fontoura\,  1209
SUMMARY:Campus Party 11ª edição em São Paulo CPBR11
DESCRIPTION:A Campus Party 2018 foca em atrair executivos para o evento e v
 irá com uma grande novidade: o Campus Party Executive O evento anual é a 
 maior experiência tecnológica do mundo que reúne jovens geeks em um fest
 ival de inovação\,  criatividade\,  ciência\,  empreendedorismo e univer
 so digital. Com a proposta de[..]\nhttps://cryptoid.com.br/eventos/campus-p
 arty-11-2018/
URL:https://cryptoid.com.br/eventos/campus-party-11-2018/
END:VEVENT
END:VCALENDAR