BEGIN:VCALENDAR
VERSION:2.0
PRODID:-//eventon.com NONSGML v1.0//EN
CALSCALE:GREGORIAN
METHOD:PUBLISH
BEGIN:VEVENT
UID:69e9793023d63
DTSTAMP:20260423T014312Z
DTSTART:20180423T180000Z
DTEND:20180426T190000Z
LOCATION:CICB | CENTRO INTERNACIONAL DE CONVENÇÕES DO BRASIL SCES Trecho 2\,  Conjunto 63\,  Lote 50 - Asa Sul St. de Clubes Esportivos Sul  Brasília\,  DF | Brasil 70.200-002
SUMMARY:Brazil Cyber Defence 2018
DESCRIPTION:A BRAZIL CYBER DEFENCE Brazil Cyber Defence: referência em fó
 rum e exposição para a Ciberdefesa\,  Cibersegurança\,  Comunicações e
  Guerra Eletrônica Busca promover o debate dos assuntos de Defesa e Segura
 nça entre as Forças Armadas e de Segurança Pública\,  setores da indús
 tria\,  meio acadêmico\,  instituições públicas e privadas\,  e governo
 \,  com[..]\nhttps://cryptoid.com.br/eventos/brazil-cyber-defence/
URL:https://cryptoid.com.br/eventos/brazil-cyber-defence/
END:VEVENT
END:VCALENDAR