BEGIN:VCALENDAR
VERSION:2.0
PRODID:-//eventon.com NONSGML v1.0//EN
CALSCALE:GREGORIAN
METHOD:PUBLISH
BEGIN:VEVENT
UID:69ed8924bc18f
DTSTAMP:20260426T034020Z
DTSTART:20180417T090000Z
DTEND:20180417T190000Z
LOCATION:EXPO Center Norte Rua José Bernardo Pinto\,  333 - Vila Guilherme - Pavilhão Azul
SUMMARY:ERP Summit'18 - Evento do setor de tecnologia e gestão
DESCRIPTION:Realizado em 17 de abril de 2018\,  o evento abordará como sof
 twares de gestão podem aumentar a produtividade em empresas &nbsp; &nbsp; 
 Com o mote “O Software a Serviço da Gestão”\,  o encontro acontecerá
  no Expo Center Norte &#8211; Pavilhão Azul. &nbsp; ERP Summit 2018 contar
 á com palestra sobre Política[..]\nhttps://cryptoid.com.br/eventos/32413-
 erp-summit18/
URL:https://cryptoid.com.br/eventos/32413-erp-summit18/
END:VEVENT
END:VCALENDAR