BEGIN:VCALENDAR
VERSION:2.0
PRODID:-//eventon.com NONSGML v1.0//EN
CALSCALE:GREGORIAN
METHOD:PUBLISH
BEGIN:VEVENT
UID:69e8b48ca0840
DTSTAMP:20260422T114412Z
DTSTART:20180522T080000Z
DTEND:20180523T180000Z
LOCATION:World Trade Center - WTC | São Paulo Avenida das Nações Unidas 12559
SUMMARY:Conferência Gartner Data & Analytics
DESCRIPTION:Escale o Valor de Data &amp; Analytics | Conferência Gartner 
 Data &amp; Analytics Sobreviver e prosperar na era digital significa impuls
 ionar Data &amp; Analytics desde a essência dos seus negócios\,  e expand
 indo para todos os colaboradores\,  clientes\,  fornecedores e parceiros. N
 a Conferência Gartner Data &amp; Analytics\,  que será realizada nos dia
 s 22[..]\nhttps://cryptoid.com.br/eventos/32769-conferencia-gartner-data-an
 alytics/
URL:https://cryptoid.com.br/eventos/32769-conferencia-gartner-data-analytics/
END:VEVENT
END:VCALENDAR