BEGIN:VCALENDAR
VERSION:2.0
PRODID:-//eventon.com NONSGML v1.0//EN
CALSCALE:GREGORIAN
METHOD:PUBLISH
BEGIN:VEVENT
UID:69e99731c7752
DTSTAMP:20260423T035113Z
DTSTART:20180821T130000Z
DTEND:20180823T190000Z
LOCATION:FecomércioSP Rua Doutor Plínio Barreto\,  285 Bela Vista São Paulo - SP CEP: 01313-020
SUMMARY:Biometrics HITech Summit – Expo\,  Business and Conference
DESCRIPTION:Em 2018\,  o Biometrics HITech Summit – Expo\,  Business and 
 Conference\,  único evento do Brasil especializado em biometrias e tecnolo
 gias de identificação\,  chega a sua quarta edição e será realizado de
  21 a 23 de agosto\,  no Centro FECOMERCIO de Eventos\,  em São Paulo – 
 SP Congressos e Exposição &#8211;[..]\nhttps://cryptoid.com.br/eventos/33
 237-biometrics-hitech-summit-expo-business-and-conference/
URL:https://cryptoid.com.br/eventos/33237-biometrics-hitech-summit-expo-business-and-conference/
END:VEVENT
END:VCALENDAR