BEGIN:VCALENDAR
VERSION:2.0
PRODID:-//eventon.com NONSGML v1.0//EN
CALSCALE:GREGORIAN
METHOD:PUBLISH
BEGIN:VEVENT
UID:69ea87cc8fe5b
DTSTAMP:20260423T205748Z
DTSTART:20200414T080000Z
DTEND:20200415T183000Z
LOCATION:World Trade Center - WTC | São Paulo Avenida das Nações Unidas 12559
SUMMARY:Conferência Gartner Infraestrutura de TI\,  Operações & Estratégias de Cloud 2020
DESCRIPTION:Cancelamento da Conferência Gartner Infraestrutura de TI\,  Op
 erações e Estratégias de Cloud 2020\,  em São Paulo 17 Março\,  2020 D
 evido a preocupações contínuas sobre o surto de coronavírus (COVID-19) 
 e a recente diretriz do Governo\,  o Gartner decidiu cancelar a Conferênci
 a Infraestrutura de TI\,  Operações e Estratégias de Cloud\,  programada
 [..]\nhttps://cryptoid.com.br/eventos/conferencia-gartner-infraestrutura-de
 -ti-operacoes-estrategias-de-cloud-2020/
URL:https://cryptoid.com.br/eventos/conferencia-gartner-infraestrutura-de-ti-operacoes-estrategias-de-cloud-2020/
END:VEVENT
END:VCALENDAR