BEGIN:VCALENDAR
VERSION:2.0
PRODID:-//eventon.com NONSGML v1.0//EN
CALSCALE:GREGORIAN
METHOD:PUBLISH
BEGIN:VEVENT
UID:69e92441e70bd
DTSTAMP:20260422T194049Z
DTSTART:20200929T080000Z
DTEND:20201001T180000Z
LOCATION:Hotel Royal Tulip Brasilia Alvorada SHTN Trecho 1 Conjunto 1B - Bloco C - Asa Norte\,  Brasília
SUMMARY:Brazil Cyber Summit 2020 - NOVA DATA
DESCRIPTION:Diante das preocupações crescentes acerca do Coronavírus\,  
 tomamos a decisão de alterar a data da Brazil Cyber Summit (BCS 2020) para
  o período de 29 de setembro a 1º de outubro de 2020\,  de modo a prioriz
 ar a saúde e a segurança de nossos visitantes\,  palestrantes\,  apoiador
 es\,  patrocinadores\,  parceiros\,  funcionários[..]\nhttps://cryptoid.co
 m.br/eventos/brazil-cyber-summit-2020/
URL:https://cryptoid.com.br/eventos/brazil-cyber-summit-2020/
END:VEVENT
END:VCALENDAR