BEGIN:VCALENDAR
VERSION:2.0
PRODID:-//eventon.com NONSGML v1.0//EN
CALSCALE:GREGORIAN
METHOD:PUBLISH
BEGIN:VEVENT
UID:69e6bffc6a8d1
DTSTAMP:20260421T000828Z
DTSTART:20211108T100000Z
DTEND:20211111T183000Z
LOCATION:
SUMMARY:FUTURECOM DIGITAL WEEK
DESCRIPTION:A cada ano mais surpreendente\,  o Futurecom é o único evento
  que discute as transformações que a Tecnologia promove nas relações do
  mercado entre telcos\,  corporações e stakeholders interessados em aumen
 tar ainda mais o engajamento com o público-alvo. Sobre o evento Realizado 
 pela Informa Markets o Futurecom é o maior[..]\nhttps://cryptoid.com.br/ev
 entos/futurecom-2020/
URL:https://cryptoid.com.br/eventos/futurecom-2020/
END:VEVENT
END:VCALENDAR