BEGIN:VCALENDAR
VERSION:2.0
PRODID:-//eventon.com NONSGML v1.0//EN
CALSCALE:GREGORIAN
METHOD:PUBLISH
BEGIN:VEVENT
UID:69e882bd35943
DTSTAMP:20260422T081141Z
DTSTART:20200623T100000Z
DTEND:20200625T190000Z
LOCATION:Transamerica Expo Center - São Paulo Avenida Doutor Mário Vilas Boas Rodrigues\,  387\,  Santo Amaro – São Paulo/SP
SUMMARY:CIAB 2020 - CANCELADO
DESCRIPTION:Em razão das últimas notícias sobre as medidas para conter o
  COVID-19\,  a decisão da FEBRABAN foi pelo cancelamento do CIAB 2020. Há
  previsão do Ministério da Saúde de agravamento da situação nos próxi
 mos meses. Não há data disponível para realização do CIAB no segundo s
 emestre\,  visto serem necessários 10[..]\nhttps://cryptoid.com.br/eventos
 /ciab-2020-vem-ai-o-maior-evento-de-tecnologia-do-setor-mais-tecnologico-do
 -pais/
URL:https://cryptoid.com.br/eventos/ciab-2020-vem-ai-o-maior-evento-de-tecnologia-do-setor-mais-tecnologico-do-pais/
END:VEVENT
END:VCALENDAR