BEGIN:VCALENDAR
VERSION:2.0
PRODID:-//eventon.com NONSGML v1.0//EN
CALSCALE:GREGORIAN
METHOD:PUBLISH
BEGIN:VEVENT
UID:69e6281189483
DTSTAMP:20260420T132017Z
DTSTART:20210921T190000Z
DTEND:20210923T200000Z
LOCATION:
SUMMARY:18º CertForum - Brasília 21 a 23 de setembro de 2021
DESCRIPTION:O CertForum 2021 será em setembro O evento é realizado pelo I
 nstituto Nacional de Tecnologia da Informação (ITI) e organizado pela Ass
 ociação Brasileira das Empresas de Tecnologia em Identificação Digital 
 (ABRID) Certforum é o maior evento do mundo sobre identificação digital
  nos padrões da Infraestrutura de Chaves Públicas Brasileira – ICP-Bras
 il[..]\nhttps://cryptoid.com.br/eventos/21-a-23-de-setembro-de-2021/
URL:https://cryptoid.com.br/eventos/21-a-23-de-setembro-de-2021/
END:VEVENT
END:VCALENDAR